BEGIN:VCALENDAR
VERSION:2.0
PRODID:-//birthparentsupportalliance.org//NONSGML kigkonsult.se iCalcreator
  2.30.10//
CALSCALE:GREGORIAN
METHOD:PUBLISH
UID:e8ff70c2-d71c-4508-94f9-2109c00f189f
X-WR-CALDESC:
X-WR-RELCALID:0ec299b5dc149876ea89b194851b72aa
X-WR-TIMEZONE:America/Chicago
BEGIN:VTIMEZONE
TZID:America/Chicago
BEGIN:STANDARD
TZNAME:CST
DTSTART:20191103T020000
TZOFFSETFROM:-0500
TZOFFSETTO:-0600
RDATE:20201101T020000
END:STANDARD
BEGIN:DAYLIGHT
TZNAME:CDT
DTSTART:20200308T020000
TZOFFSETFROM:-0600
TZOFFSETTO:-0500
RDATE:20210314T020000
END:DAYLIGHT
END:VTIMEZONE
BEGIN:VEVENT
UID:1b2ab2f3-da5f-4492-a416-2c6e80634bbd
DTSTAMP:20260425T020012Z
DESCRIPTION:
DTSTART;TZID=America/Chicago:20200416T103000
DTEND;TZID=America/Chicago:20200416T120000
LOCATION:TBA
SUMMARY:Illinois Agency Networking Meeting
END:VEVENT
END:VCALENDAR
