BEGIN:VCALENDAR
VERSION:2.0
PRODID:-//birthparentsupportalliance.org//NONSGML kigkonsult.se iCalcreator
  2.30.10//
CALSCALE:GREGORIAN
METHOD:PUBLISH
UID:717d0dea-6d93-438e-8f68-5a97a68c508f
X-WR-CALDESC:Details and Location: TBA
X-WR-RELCALID:17163f334d15a189b5e3f68ebb4db216
X-WR-TIMEZONE:America/Chicago
BEGIN:VTIMEZONE
TZID:America/Chicago
BEGIN:STANDARD
TZNAME:CST
DTSTART:20191103T020000
TZOFFSETFROM:-0500
TZOFFSETTO:-0600
RDATE:20201101T020000
END:STANDARD
BEGIN:DAYLIGHT
TZNAME:CDT
DTSTART:20200308T020000
TZOFFSETFROM:-0600
TZOFFSETTO:-0500
RDATE:20210314T020000
END:DAYLIGHT
END:VTIMEZONE
BEGIN:VEVENT
UID:b42be9c2-d11b-495e-9f7a-5f957ad79b55
DTSTAMP:20260425T015423Z
DESCRIPTION:Details and Location: TBA
DTSTART;TZID=America/Chicago:20200416T103000
DTEND;TZID=America/Chicago:20200416T113000
LOCATION:
SUMMARY:OYFF/Agency Networking Event
END:VEVENT
END:VCALENDAR
