BEGIN:VCALENDAR
VERSION:2.0
PRODID:-//birthparentsupportalliance.org//NONSGML kigkonsult.se iCalcreator
  2.30.10//
CALSCALE:GREGORIAN
METHOD:PUBLISH
UID:1a0b5848-a43f-495f-877a-06f2f0ad01c1
X-WR-CALDESC:We are excited that Ashley Mitchell\, of Big Tough Girl\, has 
 agreed to HOST and lead this amazing event!
X-WR-RELCALID:252b19a103217b7739324d5b16e99952
X-WR-TIMEZONE:America/Chicago
BEGIN:VTIMEZONE
TZID:America/Chicago
BEGIN:STANDARD
TZNAME:CST
DTSTART:20191103T020000
TZOFFSETFROM:-0500
TZOFFSETTO:-0600
RDATE:20201101T020000
RDATE:20211107T020000
END:STANDARD
BEGIN:DAYLIGHT
TZNAME:CDT
DTSTART:20200308T020000
TZOFFSETFROM:-0600
TZOFFSETTO:-0500
RDATE:20210314T020000
END:DAYLIGHT
END:VTIMEZONE
BEGIN:VEVENT
UID:71fd593c-9ba3-4edf-a68c-58b26d2359c7
DTSTAMP:20260425T010318Z
DESCRIPTION:We are excited that Ashley Mitchell\, of Big Tough Girl\, has a
 greed to HOST and lead this amazing event!
DTSTART;TZID=America/Chicago:20200509T150000
DTEND;TZID=America/Chicago:20200509T160000
LOCATION:Zoom
SUMMARY:BIRTH MOTHER’S DAY NATIONAL ZOOM CELEBRATION!
END:VEVENT
END:VCALENDAR
