BEGIN:VCALENDAR
VERSION:2.0
PRODID:-//birthparentsupportalliance.org//NONSGML kigkonsult.se iCalcreator
  2.30.10//
CALSCALE:GREGORIAN
METHOD:PUBLISH
UID:da722d69-b9d4-4821-9f90-56bda8f7f78c
X-WR-CALDESC:While we can't meet with everyone in person right now\, we are
  hosting 3 weekly Zoom calls moderated by our case management staff and re
 treat facilitators. Have a question? Need some assistance navigating resou
 rces? Just want to connect and chat with some friendly faces? We're here f
 or you!\n\nThese calls are intended for birthmothers only\, so please don'
 t share publicly. If you have a question\, please reach out!
X-WR-RELCALID:60cfe10a4c5eebaef299f6417d1aa161
X-WR-TIMEZONE:America/Chicago
BEGIN:VTIMEZONE
TZID:America/Chicago
BEGIN:STANDARD
TZNAME:CST
DTSTART:20191103T020000
TZOFFSETFROM:-0500
TZOFFSETTO:-0600
RDATE:20201101T020000
RDATE:20211107T020000
END:STANDARD
BEGIN:DAYLIGHT
TZNAME:CDT
DTSTART:20200308T020000
TZOFFSETFROM:-0600
TZOFFSETTO:-0500
RDATE:20210314T020000
END:DAYLIGHT
END:VTIMEZONE
BEGIN:VEVENT
UID:1d506d9c-e24f-4580-b704-9f8a59c37c11
DTSTAMP:20260424T233552Z
DESCRIPTION:While we can't meet with everyone in person right now\, we are 
 hosting 3 weekly Zoom calls moderated by our case management staff and ret
 reat facilitators. Have a question? Need some assistance navigating resour
 ces? Just want to connect and chat with some friendly faces? We're here fo
 r you!\n\nThese calls are intended for birthmothers only\, so please don't
  share publicly. If you have a question\, please reach out!
DTSTART;TZID=America/Chicago:20200616T140000
DTEND;TZID=America/Chicago:20200616T150000
LOCATION:Zoom Call
SUMMARY:BirthmomsConnect
END:VEVENT
END:VCALENDAR
