BEGIN:VCALENDAR
VERSION:2.0
PRODID:-//birthparentsupportalliance.org//NONSGML kigkonsult.se iCalcreator
  2.30.10//
CALSCALE:GREGORIAN
METHOD:PUBLISH
UID:ed4776b4-262a-4aee-90b5-43eabc61413f
X-WR-CALDESC:details TBA
X-WR-RELCALID:20a8b3b06d3a8cc617daae6659f800ee
X-WR-TIMEZONE:America/Chicago
BEGIN:VTIMEZONE
TZID:America/Chicago
BEGIN:STANDARD
TZNAME:CST
DTSTART:20191103T020000
TZOFFSETFROM:-0500
TZOFFSETTO:-0600
RDATE:20201101T020000
RDATE:20211107T020000
END:STANDARD
BEGIN:DAYLIGHT
TZNAME:CDT
DTSTART:20200308T020000
TZOFFSETFROM:-0600
TZOFFSETTO:-0500
RDATE:20210314T020000
END:DAYLIGHT
END:VTIMEZONE
BEGIN:VEVENT
UID:c6f521ec-7386-40e9-9b47-c7234363789c
DTSTAMP:20260424T221201Z
DESCRIPTION:details TBA
DTSTART;TZID=America/Chicago:20200711T000000
DTEND;TZID=America/Chicago:20200711T235900
LOCATION:
SUMMARY:Coffee With A Birthmom
END:VEVENT
END:VCALENDAR
