BEGIN:VCALENDAR
VERSION:2.0
PRODID:-//birthparentsupportalliance.org//NONSGML kigkonsult.se iCalcreator
  2.30.10//
CALSCALE:GREGORIAN
METHOD:PUBLISH
UID:3bc6c0cf-b1c7-459f-b90b-37ce76d6cb03
X-WR-CALDESC:
X-WR-RELCALID:ac88b5de0f749bfa6d43867234278216
X-WR-TIMEZONE:America/Chicago
BEGIN:VTIMEZONE
TZID:America/Chicago
BEGIN:STANDARD
TZNAME:CST
DTSTART:20201101T020000
TZOFFSETFROM:-0500
TZOFFSETTO:-0600
RDATE:20211107T020000
END:STANDARD
BEGIN:DAYLIGHT
TZNAME:CDT
DTSTART:20200308T020000
TZOFFSETFROM:-0600
TZOFFSETTO:-0500
RDATE:20210314T020000
RDATE:20220313T020000
END:DAYLIGHT
END:VTIMEZONE
BEGIN:VEVENT
UID:2c87620e-1864-41df-b54e-e4377e4ecc81
DTSTAMP:20260424T153922Z
DESCRIPTION:
DTSTART;TZID=America/Chicago:20201210T190000
DTEND;TZID=America/Chicago:20201210T210000
LOCATION:
SUMMARY:Ugly Pajama Holiday Party! (just for birthmoms)
END:VEVENT
END:VCALENDAR
