BEGIN:VCALENDAR
VERSION:2.0
PRODID:-//birthparentsupportalliance.org//NONSGML kigkonsult.se iCalcreator
  2.30.10//
CALSCALE:GREGORIAN
METHOD:PUBLISH
UID:0e4f9d37-f34b-4640-9d9f-5881cb1bb54d
X-WR-CALDESC:Registration opens December 11th\nMaterial list will be emaile
 d upon registration and special gift will be mailed prior to event
X-WR-RELCALID:6bf3267682f3d21f435b7c86568fbac7
X-WR-TIMEZONE:America/Chicago
BEGIN:VTIMEZONE
TZID:America/Chicago
BEGIN:STANDARD
TZNAME:CST
DTSTART:20201101T020000
TZOFFSETFROM:-0500
TZOFFSETTO:-0600
RDATE:20211107T020000
END:STANDARD
BEGIN:DAYLIGHT
TZNAME:CDT
DTSTART:20200308T020000
TZOFFSETFROM:-0600
TZOFFSETTO:-0500
RDATE:20210314T020000
RDATE:20220313T020000
END:DAYLIGHT
END:VTIMEZONE
BEGIN:VEVENT
UID:e59741e6-3d61-4c53-af79-e2e8547c3838
DTSTAMP:20260424T135031Z
DESCRIPTION:Registration opens December 11th\nMaterial list will be emailed
  upon registration and special gift will be mailed prior to event
DTSTART;TZID=America/Chicago:20210123T100000
DTEND;TZID=America/Chicago:20210123T110000
LOCATION:
SUMMARY:Vision Board Event
END:VEVENT
END:VCALENDAR
