BEGIN:VCALENDAR
VERSION:2.0
PRODID:-//birthparentsupportalliance.org//NONSGML kigkonsult.se iCalcreator
  2.30.10//
CALSCALE:GREGORIAN
METHOD:PUBLISH
UID:11e8fa56-37b3-4ce4-a966-6dbf50f551c9
X-WR-CALDESC:https://onyourfeetfoundation.org/what-we-do/birthparent-servic
 es/birthmothers-day-registration-bracelet-orders.html
X-WR-RELCALID:70e7d84e5230944bd5196af9feb3ae46
X-WR-TIMEZONE:America/Chicago
BEGIN:VTIMEZONE
TZID:America/Chicago
BEGIN:STANDARD
TZNAME:CST
DTSTART:20201101T020000
TZOFFSETFROM:-0500
TZOFFSETTO:-0600
RDATE:20211107T020000
RDATE:20221106T020000
END:STANDARD
BEGIN:DAYLIGHT
TZNAME:CDT
DTSTART:20210314T020000
TZOFFSETFROM:-0600
TZOFFSETTO:-0500
RDATE:20220313T020000
END:DAYLIGHT
END:VTIMEZONE
BEGIN:VEVENT
UID:a9cd829c-07ab-46ab-832d-3cb051e615b0
DTSTAMP:20260424T084733Z
DESCRIPTION:https://onyourfeetfoundation.org/what-we-do/birthparent-service
 s/birthmothers-day-registration-bracelet-orders.html
DTSTART;TZID=America/Chicago:20210508T000000
DTEND;TZID=America/Chicago:20210508T235900
LOCATION:
SUMMARY:Birthmother's Day Event
END:VEVENT
END:VCALENDAR
