BEGIN:VCALENDAR
VERSION:2.0
PRODID:-//birthparentsupportalliance.org//NONSGML kigkonsult.se iCalcreator
  2.30.10//
CALSCALE:GREGORIAN
METHOD:PUBLISH
UID:500e1740-f745-48e8-94b1-a9a87cdd8b5b
X-WR-CALDESC:A discussion on the role fathers play in adoption with father 
 of three\, transracial adoptee\, mentor and motivational speaker\, Cordan 
 James. \nCertificates of attendance available.
X-WR-RELCALID:e7b4da0daf1828f2dd91fcad8327d27a
X-WR-TIMEZONE:America/Chicago
BEGIN:VTIMEZONE
TZID:America/Chicago
BEGIN:STANDARD
TZNAME:CST
DTSTART:20201101T020000
TZOFFSETFROM:-0500
TZOFFSETTO:-0600
RDATE:20211107T020000
RDATE:20221106T020000
END:STANDARD
BEGIN:DAYLIGHT
TZNAME:CDT
DTSTART:20210314T020000
TZOFFSETFROM:-0600
TZOFFSETTO:-0500
RDATE:20220313T020000
END:DAYLIGHT
END:VTIMEZONE
BEGIN:VEVENT
UID:c94c4012-382b-4a24-b4c8-9d4bd0678432
DTSTAMP:20260424T072501Z
DESCRIPTION:A discussion on the role fathers play in adoption with father o
 f three\, transracial adoptee\, mentor and motivational speaker\, Cordan J
 ames. \nCertificates of attendance available.
DTSTART;TZID=America/Chicago:20210613T140000
DTEND;TZID=America/Chicago:20210613T153000
LOCATION:
SUMMARY:Activism in Adoption: Finding Fatherhood
END:VEVENT
END:VCALENDAR
