BEGIN:VCALENDAR
VERSION:2.0
PRODID:-//birthparentsupportalliance.org//NONSGML kigkonsult.se iCalcreator
  2.30.10//
CALSCALE:GREGORIAN
METHOD:PUBLISH
UID:488feb7b-a533-48a8-91b0-fb0d87335e8c
X-WR-CALDESC:Support On Your Feet Foundation through its 20th anniversary v
 irtual silent auction.
X-WR-RELCALID:bb88fe8f40793a73247bcf8446133b5b
X-WR-TIMEZONE:America/Chicago
BEGIN:VTIMEZONE
TZID:America/Chicago
BEGIN:STANDARD
TZNAME:CST
DTSTART:20211107T020000
TZOFFSETFROM:-0500
TZOFFSETTO:-0600
RDATE:20221106T020000
END:STANDARD
BEGIN:DAYLIGHT
TZNAME:CDT
DTSTART:20210314T020000
TZOFFSETFROM:-0600
TZOFFSETTO:-0500
RDATE:20220313T020000
RDATE:20230312T020000
END:DAYLIGHT
END:VTIMEZONE
BEGIN:VEVENT
UID:04a1435f-9ea6-4710-8c08-16785e6349bd
DTSTAMP:20260424T011203Z
DESCRIPTION:Support On Your Feet Foundation through its 20th anniversary vi
 rtual silent auction.
DTSTART;TZID=America/Chicago:20211110T193000
DTEND;TZID=America/Chicago:20211113T190000
LOCATION:https://onyourfeetfoundation.org/20th-anniversary/schedule-of-even
 ts.html
SUMMARY:Virtual Silent Auction
END:VEVENT
END:VCALENDAR
