BEGIN:VCALENDAR
VERSION:2.0
PRODID:-//birthparentsupportalliance.org//NONSGML kigkonsult.se iCalcreator
  2.30.10//
CALSCALE:GREGORIAN
METHOD:PUBLISH
UID:a54c2c26-4980-468b-9f3e-82888446fdaf
X-WR-CALDESC:Register here: https://onyourfeetfoundation.org/birthparent-se
 rvices/2021-holiday-party.html
X-WR-RELCALID:c0dd5e3c3f94c167c78acbdbcb1d6d1e
X-WR-TIMEZONE:America/Chicago
BEGIN:VTIMEZONE
TZID:America/Chicago
BEGIN:STANDARD
TZNAME:CST
DTSTART:20211107T020000
TZOFFSETFROM:-0500
TZOFFSETTO:-0600
RDATE:20221106T020000
END:STANDARD
BEGIN:DAYLIGHT
TZNAME:CDT
DTSTART:20210314T020000
TZOFFSETFROM:-0600
TZOFFSETTO:-0500
RDATE:20220313T020000
RDATE:20230312T020000
END:DAYLIGHT
END:VTIMEZONE
BEGIN:VEVENT
UID:4e8a7de8-0ff5-46a1-bd4c-49a8967da625
DTSTAMP:20260424T000247Z
DESCRIPTION:Register here: https://onyourfeetfoundation.org/birthparent-ser
 vices/2021-holiday-party.html
DTSTART;TZID=America/Chicago:20211209T200000
DTEND;TZID=America/Chicago:20211209T210000
LOCATION:
SUMMARY:Holiday Party
END:VEVENT
END:VCALENDAR
