BEGIN:VCALENDAR
VERSION:2.0
PRODID:-//birthparentsupportalliance.org//NONSGML kigkonsult.se iCalcreator
  2.30.10//
CALSCALE:GREGORIAN
METHOD:PUBLISH
UID:c30b3210-d83e-48ac-b495-69ef8e999a58
X-WR-CALDESC:
X-WR-RELCALID:65e06ddd5d683b8f5ab1e88317567c1d
X-WR-TIMEZONE:America/Chicago
BEGIN:VTIMEZONE
TZID:America/Chicago
BEGIN:STANDARD
TZNAME:CST
DTSTART:20211107T020000
TZOFFSETFROM:-0500
TZOFFSETTO:-0600
RDATE:20221106T020000
END:STANDARD
BEGIN:DAYLIGHT
TZNAME:CDT
DTSTART:20210314T020000
TZOFFSETFROM:-0600
TZOFFSETTO:-0500
RDATE:20220313T020000
RDATE:20230312T020000
END:DAYLIGHT
END:VTIMEZONE
BEGIN:VEVENT
UID:285b72f9-3ffe-451b-83a7-2762d75ac350
DTSTAMP:20260424T000009Z
DESCRIPTION:
DTSTART;TZID=America/Chicago:20211231T000000
DTEND;TZID=America/Chicago:20211231T235900
LOCATION:
SUMMARY:Registration Opens for Spring In-Person Retreat
END:VEVENT
END:VCALENDAR
