BEGIN:VCALENDAR
VERSION:2.0
PRODID:-//birthparentsupportalliance.org//NONSGML kigkonsult.se iCalcreator
  2.30.10//
CALSCALE:GREGORIAN
METHOD:PUBLISH
UID:cd1a88d5-c8e9-43ae-8dee-d78d20a54ef7
X-WR-CALDESC:
X-WR-RELCALID:387459e631ba18896cd9b7e249ac1249
X-WR-TIMEZONE:America/Chicago
BEGIN:VTIMEZONE
TZID:America/Chicago
BEGIN:STANDARD
TZNAME:CST
DTSTART:20211107T020000
TZOFFSETFROM:-0500
TZOFFSETTO:-0600
RDATE:20221106T020000
END:STANDARD
BEGIN:DAYLIGHT
TZNAME:CDT
DTSTART:20210314T020000
TZOFFSETFROM:-0600
TZOFFSETTO:-0500
RDATE:20220313T020000
RDATE:20230312T020000
END:DAYLIGHT
END:VTIMEZONE
BEGIN:VEVENT
UID:64e26d96-cc56-4b6c-83b4-392fc252df5d
DTSTAMP:20260423T224558Z
DESCRIPTION:
DTSTART;TZID=America/Chicago:20220114T173000
DTEND;TZID=America/Chicago:20220114T183000
LOCATION:
SUMMARY:Spring in-person retreat registration CLOSES
END:VEVENT
END:VCALENDAR
