BEGIN:VCALENDAR
VERSION:2.0
PRODID:-//birthparentsupportalliance.org//NONSGML kigkonsult.se iCalcreator
  2.30.10//
CALSCALE:GREGORIAN
METHOD:PUBLISH
UID:b68f20cb-795d-43c2-8744-ef9c6c777921
X-WR-CALDESC:
X-WR-RELCALID:277bb6aacb1d4807871ba1fa30988343
X-WR-TIMEZONE:America/Chicago
BEGIN:VTIMEZONE
TZID:America/Chicago
BEGIN:STANDARD
TZNAME:CST
DTSTART:20211107T020000
TZOFFSETFROM:-0500
TZOFFSETTO:-0600
RDATE:20221106T020000
END:STANDARD
BEGIN:DAYLIGHT
TZNAME:CDT
DTSTART:20210314T020000
TZOFFSETFROM:-0600
TZOFFSETTO:-0500
RDATE:20220313T020000
RDATE:20230312T020000
END:DAYLIGHT
END:VTIMEZONE
BEGIN:VEVENT
UID:851ba7b4-c9d0-4e78-8daf-f1aa2e4b51a0
DTSTAMP:20260423T223618Z
DESCRIPTION:
DTSTART;TZID=America/Chicago:20220115T000000
DTEND;TZID=America/Chicago:20220115T235900
LOCATION:
SUMMARY:Mentor Program Registration CLOSES
END:VEVENT
END:VCALENDAR
