BEGIN:VCALENDAR
VERSION:2.0
PRODID:-//birthparentsupportalliance.org//NONSGML kigkonsult.se iCalcreator
  2.30.10//
CALSCALE:GREGORIAN
METHOD:PUBLISH
UID:911ec988-bb64-4e2e-8230-88769ba80e87
X-WR-CALDESC:Details and Registration information coming soon. Save the dat
 e!
X-WR-RELCALID:d8c9467c15ba5f726598536a747cd207
X-WR-TIMEZONE:America/Chicago
BEGIN:VTIMEZONE
TZID:America/Chicago
BEGIN:STANDARD
TZNAME:CST
DTSTART:20211107T020000
TZOFFSETFROM:-0500
TZOFFSETTO:-0600
RDATE:20221106T020000
END:STANDARD
BEGIN:DAYLIGHT
TZNAME:CDT
DTSTART:20210314T020000
TZOFFSETFROM:-0600
TZOFFSETTO:-0500
RDATE:20220313T020000
RDATE:20230312T020000
END:DAYLIGHT
END:VTIMEZONE
BEGIN:VEVENT
UID:c9addc15-cbba-42ac-ae7f-2eb28cecb6c8
DTSTAMP:20260423T223456Z
DESCRIPTION:Details and Registration information coming soon. Save the date
 !
DTSTART;TZID=America/Chicago:20220120T200000
DTEND;TZID=America/Chicago:20220120T213000
LOCATION:
SUMMARY:Annual Vision Board Event
END:VEVENT
END:VCALENDAR
