BEGIN:VCALENDAR
VERSION:2.0
PRODID:-//birthparentsupportalliance.org//NONSGML kigkonsult.se iCalcreator
  2.30.10//
CALSCALE:GREGORIAN
METHOD:PUBLISH
UID:bded3ce7-89c3-4f10-b9dd-a2efa36461db
X-WR-CALDESC:*2nd Thursday is a moderated call. All other Thursdays are an 
 open call that can be joined by any birthmom who would just like to chat w
 ith other birthmoms. Registration for the Thursday Connect Call is require
 d to participate.
X-WR-RELCALID:33f3798d50c1a8c05aa09ed86c51be9b
X-WR-TIMEZONE:America/Chicago
BEGIN:VTIMEZONE
TZID:America/Chicago
BEGIN:STANDARD
TZNAME:CST
DTSTART:20211107T020000
TZOFFSETFROM:-0500
TZOFFSETTO:-0600
RDATE:20221106T020000
END:STANDARD
BEGIN:DAYLIGHT
TZNAME:CDT
DTSTART:20210314T020000
TZOFFSETFROM:-0600
TZOFFSETTO:-0500
RDATE:20220313T020000
RDATE:20230312T020000
END:DAYLIGHT
END:VTIMEZONE
BEGIN:VEVENT
UID:02ca8e11-d788-411c-9906-a6db13b6a5a6
DTSTAMP:20260423T212530Z
DESCRIPTION:*2nd Thursday is a moderated call. All other Thursdays are an o
 pen call that can be joined by any birthmom who would just like to chat wi
 th other birthmoms. Registration for the Thursday Connect Call is required
  to participate.
DTSTART;TZID=America/Chicago:20220217T200000
DTEND;TZID=America/Chicago:20220217T210000
LOCATION:
SUMMARY:BirthmomConnect OPEN Call
END:VEVENT
END:VCALENDAR
