BEGIN:VCALENDAR
VERSION:2.0
PRODID:-//birthparentsupportalliance.org//NONSGML kigkonsult.se iCalcreator
  2.30.10//
CALSCALE:GREGORIAN
METHOD:PUBLISH
UID:a766be87-916d-45a2-9c5f-0b827010c1f5
X-WR-CALDESC:The deadline for registration for the virtual spring retreat (
 held April 23rd) is March 15\, 2022.
X-WR-RELCALID:329a7df67c0862b2d3d743bcb632c9da
X-WR-TIMEZONE:America/Chicago
BEGIN:VTIMEZONE
TZID:America/Chicago
BEGIN:STANDARD
TZNAME:CST
DTSTART:20211107T020000
TZOFFSETFROM:-0500
TZOFFSETTO:-0600
RDATE:20221106T020000
END:STANDARD
BEGIN:DAYLIGHT
TZNAME:CDT
DTSTART:20210314T020000
TZOFFSETFROM:-0600
TZOFFSETTO:-0500
RDATE:20220313T020000
RDATE:20230312T020000
END:DAYLIGHT
END:VTIMEZONE
BEGIN:VEVENT
UID:4aaa1447-c5d8-4e2d-b3f3-abb285b5d8a6
DTSTAMP:20260423T213146Z
DESCRIPTION:The deadline for registration for the virtual spring retreat (h
 eld April 23rd) is March 15\, 2022.
DTSTART;TZID=America/Chicago:20220225T000000
DTEND;TZID=America/Chicago:20220225T235900
LOCATION:
SUMMARY:Registration Closes for Virtual Spring Retreat
END:VEVENT
END:VCALENDAR
