BEGIN:VCALENDAR
VERSION:2.0
PRODID:-//birthparentsupportalliance.org//NONSGML kigkonsult.se iCalcreator
  2.30.10//
CALSCALE:GREGORIAN
METHOD:PUBLISH
UID:1f05b8b6-9f4a-4d96-939b-31cec7e9a0a9
X-WR-CALDESC:https://onyourfeetfoundation.org/birthparent-services/retreats
 -community.html
X-WR-RELCALID:a25f0d1b041e5d2e756ca5a006653fbe
X-WR-TIMEZONE:America/Chicago
BEGIN:VTIMEZONE
TZID:America/Chicago
BEGIN:STANDARD
TZNAME:CST
DTSTART:20211107T020000
TZOFFSETFROM:-0500
TZOFFSETTO:-0600
RDATE:20221106T020000
END:STANDARD
BEGIN:DAYLIGHT
TZNAME:CDT
DTSTART:20210314T020000
TZOFFSETFROM:-0600
TZOFFSETTO:-0500
RDATE:20220313T020000
RDATE:20230312T020000
END:DAYLIGHT
END:VTIMEZONE
BEGIN:VEVENT
UID:73717087-35ed-4bf2-b716-f2144a819ad8
DTSTAMP:20260423T200234Z
DESCRIPTION:https://onyourfeetfoundation.org/birthparent-services/retreats-
 community.html
DTSTART;TZID=America/Chicago:20220304T180000
DTEND;TZID=America/Chicago:20220304T190000
LOCATION:
SUMMARY:Closed/Reunion in-person retreat registration OPENS
END:VEVENT
END:VCALENDAR
