BEGIN:VCALENDAR
VERSION:2.0
PRODID:-//birthparentsupportalliance.org//NONSGML kigkonsult.se iCalcreator
  2.30.10//
CALSCALE:GREGORIAN
METHOD:PUBLISH
UID:6e23bb4b-ed57-492b-a041-01bde67a4f36
X-WR-CALDESC:In-Person | March 11-13 | Registration opens December 31st and
  closes January 14th
X-WR-RELCALID:6cfd8be2b4925fd847a6d5addaf14aec
X-WR-TIMEZONE:America/Chicago
BEGIN:VTIMEZONE
TZID:America/Chicago
BEGIN:STANDARD
TZNAME:CST
DTSTART:20211107T020000
TZOFFSETFROM:-0500
TZOFFSETTO:-0600
RDATE:20221106T020000
END:STANDARD
BEGIN:DAYLIGHT
TZNAME:CDT
DTSTART:20210314T020000
TZOFFSETFROM:-0600
TZOFFSETTO:-0500
RDATE:20220313T020000
RDATE:20230312T020000
END:DAYLIGHT
END:VTIMEZONE
BEGIN:VEVENT
UID:befe09a0-7e95-47fa-874e-5576b13a4a16
DTSTAMP:20260423T200336Z
DESCRIPTION:In-Person | March 11-13 | Registration opens December 31st and 
 closes January 14th
DTSTART;TZID=America/Chicago:20220311T000000
DTEND;TZID=America/Chicago:20220313T235900
LOCATION:
SUMMARY:Spring in-person retreat
END:VEVENT
END:VCALENDAR
