BEGIN:VCALENDAR
VERSION:2.0
PRODID:-//birthparentsupportalliance.org//NONSGML kigkonsult.se iCalcreator
  2.30.10//
CALSCALE:GREGORIAN
METHOD:PUBLISH
UID:ce5d1d62-5484-4b27-8a53-a9a5a0ecbc17
X-WR-CALDESC:
X-WR-RELCALID:8022e394876605454c51533938d19e24
X-WR-TIMEZONE:America/Chicago
BEGIN:VTIMEZONE
TZID:America/Chicago
BEGIN:STANDARD
TZNAME:CST
DTSTART:20211107T020000
TZOFFSETFROM:-0500
TZOFFSETTO:-0600
RDATE:20221106T020000
RDATE:20231105T020000
END:STANDARD
BEGIN:DAYLIGHT
TZNAME:CDT
DTSTART:20220313T020000
TZOFFSETFROM:-0600
TZOFFSETTO:-0500
RDATE:20230312T020000
END:DAYLIGHT
END:VTIMEZONE
BEGIN:VEVENT
UID:1a07d0f3-588e-4a86-97d5-782bf40434bd
DTSTAMP:20260423T171624Z
DESCRIPTION:
DTSTART;TZID=America/Chicago:20220513T000000
DTEND;TZID=America/Chicago:20220515T235900
LOCATION:
SUMMARY:Closed/Reunion in-person retreat
END:VEVENT
END:VCALENDAR
