BEGIN:VCALENDAR
VERSION:2.0
PRODID:-//birthparentsupportalliance.org//NONSGML kigkonsult.se iCalcreator
  2.30.10//
CALSCALE:GREGORIAN
METHOD:PUBLISH
UID:1e24d302-6575-49ee-9625-370a82bbed0e
X-WR-CALDESC:https://onyourfeetfoundation.org/birthparent-services/retreats
 -community.html
X-WR-RELCALID:13ea9276edbe77ef1b0ed0e2ba6b5a74
X-WR-TIMEZONE:America/Chicago
BEGIN:VTIMEZONE
TZID:America/Chicago
BEGIN:STANDARD
TZNAME:CST
DTSTART:20211107T020000
TZOFFSETFROM:-0500
TZOFFSETTO:-0600
RDATE:20221106T020000
RDATE:20231105T020000
END:STANDARD
BEGIN:DAYLIGHT
TZNAME:CDT
DTSTART:20220313T020000
TZOFFSETFROM:-0600
TZOFFSETTO:-0500
RDATE:20230312T020000
END:DAYLIGHT
END:VTIMEZONE
BEGIN:VEVENT
UID:a5dad4c3-5c68-4d0e-bd19-cac4767b7054
DTSTAMP:20260423T173552Z
DESCRIPTION:https://onyourfeetfoundation.org/birthparent-services/retreats-
 community.html
DTSTART;TZID=America/Chicago:20220515T000000
DTEND;TZID=America/Chicago:20220515T235900
LOCATION:
SUMMARY:Closed/Reunion virtual retreat registration OPENS
END:VEVENT
END:VCALENDAR
