BEGIN:VCALENDAR
VERSION:2.0
PRODID:-//birthparentsupportalliance.org//NONSGML kigkonsult.se iCalcreator
  2.30.10//
CALSCALE:GREGORIAN
METHOD:PUBLISH
UID:3d346760-2a6d-4027-942c-f4d591653351
X-WR-CALDESC:
X-WR-RELCALID:569dc0cca11a1499fcbd2fc1cb7a1d30
X-WR-TIMEZONE:America/Chicago
BEGIN:VTIMEZONE
TZID:America/Chicago
BEGIN:STANDARD
TZNAME:CST
DTSTART:20211107T020000
TZOFFSETFROM:-0500
TZOFFSETTO:-0600
RDATE:20221106T020000
RDATE:20231105T020000
END:STANDARD
BEGIN:DAYLIGHT
TZNAME:CDT
DTSTART:20220313T020000
TZOFFSETFROM:-0600
TZOFFSETTO:-0500
RDATE:20230312T020000
END:DAYLIGHT
END:VTIMEZONE
BEGIN:VEVENT
UID:778bdf12-a425-44d1-8f20-811ba6d8413f
DTSTAMP:20260423T133717Z
DESCRIPTION:
DTSTART;TZID=America/Chicago:20220801T000000
DTEND;TZID=America/Chicago:20220801T235900
LOCATION:
SUMMARY:Registration Opens for 2022 Create! grant
END:VEVENT
END:VCALENDAR
