BEGIN:VCALENDAR
VERSION:2.0
PRODID:-//birthparentsupportalliance.org//NONSGML kigkonsult.se iCalcreator
  2.30.10//
CALSCALE:GREGORIAN
METHOD:PUBLISH
UID:12498ac7-3c78-4e51-804f-626975520eb5
X-WR-CALDESC:
X-WR-RELCALID:cfa5713a85f2ebb318a2b4d1b6c7079a
X-WR-TIMEZONE:America/Chicago
BEGIN:VTIMEZONE
TZID:America/Chicago
BEGIN:STANDARD
TZNAME:CST
DTSTART:20211107T020000
TZOFFSETFROM:-0500
TZOFFSETTO:-0600
RDATE:20221106T020000
RDATE:20231105T020000
END:STANDARD
BEGIN:DAYLIGHT
TZNAME:CDT
DTSTART:20220313T020000
TZOFFSETFROM:-0600
TZOFFSETTO:-0500
RDATE:20230312T020000
END:DAYLIGHT
END:VTIMEZONE
BEGIN:VEVENT
UID:147d8218-8aae-4127-a705-b4b9cd4e8812
DTSTAMP:20260423T133653Z
DESCRIPTION:
DTSTART;TZID=America/Chicago:20220815T000000
DTEND;TZID=America/Chicago:20220815T235900
LOCATION:
SUMMARY:Registration Closes for Create! arts grant
END:VEVENT
END:VCALENDAR
