BEGIN:VCALENDAR
VERSION:2.0
PRODID:-//birthparentsupportalliance.org//NONSGML kigkonsult.se iCalcreator
  2.30.10//
CALSCALE:GREGORIAN
METHOD:PUBLISH
UID:006fc485-3a39-4026-98fc-35ca62525abd
X-WR-CALDESC:https://onyourfeetfoundation.org/birthparent-services/retreats
 -community.html
X-WR-RELCALID:cc29a28cfbe9e66a9415acbb0d65b01b
X-WR-TIMEZONE:America/Chicago
BEGIN:VTIMEZONE
TZID:America/Chicago
BEGIN:STANDARD
TZNAME:CST
DTSTART:20211107T020000
TZOFFSETFROM:-0500
TZOFFSETTO:-0600
RDATE:20221106T020000
RDATE:20231105T020000
END:STANDARD
BEGIN:DAYLIGHT
TZNAME:CDT
DTSTART:20220313T020000
TZOFFSETFROM:-0600
TZOFFSETTO:-0500
RDATE:20230312T020000
RDATE:20240310T020000
END:DAYLIGHT
END:VTIMEZONE
BEGIN:VEVENT
UID:845f9d8f-6ef5-4989-a12d-11ff9b179a58
DTSTAMP:20260423T110303Z
DESCRIPTION:https://onyourfeetfoundation.org/birthparent-services/retreats-
 community.html
DTSTART;TZID=America/Chicago:20220930T000000
DTEND;TZID=America/Chicago:20221002T235900
LOCATION:
SUMMARY:Fall In-Person Retreat
END:VEVENT
END:VCALENDAR
