BEGIN:VCALENDAR
VERSION:2.0
PRODID:-//birthparentsupportalliance.org//NONSGML kigkonsult.se iCalcreator
  2.30.10//
CALSCALE:GREGORIAN
METHOD:PUBLISH
UID:f138ce8e-21a8-4986-a772-9c66cf4b10da
X-WR-CALDESC:
X-WR-RELCALID:7eb5bb902ca3bb024df3c74c573224b9
X-WR-TIMEZONE:America/Chicago
BEGIN:VTIMEZONE
TZID:America/Chicago
BEGIN:STANDARD
TZNAME:CST
DTSTART:20211107T020000
TZOFFSETFROM:-0500
TZOFFSETTO:-0600
RDATE:20221106T020000
RDATE:20231105T020000
END:STANDARD
BEGIN:DAYLIGHT
TZNAME:CDT
DTSTART:20220313T020000
TZOFFSETFROM:-0600
TZOFFSETTO:-0500
RDATE:20230312T020000
RDATE:20240310T020000
END:DAYLIGHT
END:VTIMEZONE
BEGIN:VEVENT
UID:d0ed8890-5383-4b4d-bac5-92c832cef745
DTSTAMP:20260423T110617Z
DESCRIPTION:
DTSTART;TZID=America/Chicago:20221019T190000
DTEND;TZID=America/Chicago:20221019T200000
LOCATION:https://us02web.zoom.us/meeting/register/tZYrfuuvrD0uHddF56AbIBpfR
 iR4Zoe3co8s
SUMMARY:BirthmomsConnect Closed/Reunion Call
END:VEVENT
END:VCALENDAR
