BEGIN:VCALENDAR
VERSION:2.0
PRODID:-//birthparentsupportalliance.org//NONSGML kigkonsult.se iCalcreator
  2.30.10//
CALSCALE:GREGORIAN
METHOD:PUBLISH
UID:2ef955ec-d272-482e-b209-7556f85f5add
X-WR-CALDESC:Join us at Shared Journeys for our Birthmother’s Day Gathering
  - Honoring Our Roots\, Finding Restoration – and surround yourself with a
  community that shares this journey with you.
X-WR-RELCALID:060b15b904f131ccd02def313b33e0e3
X-WR-TIMEZONE:America/Chicago
BEGIN:VTIMEZONE
TZID:America/Chicago
BEGIN:STANDARD
TZNAME:CST
DTSTART:20251102T020000
TZOFFSETFROM:-0500
TZOFFSETTO:-0600
RDATE:20261101T020000
RDATE:20271107T020000
END:STANDARD
BEGIN:DAYLIGHT
TZNAME:CDT
DTSTART:20260308T020000
TZOFFSETFROM:-0600
TZOFFSETTO:-0500
RDATE:20270314T020000
END:DAYLIGHT
END:VTIMEZONE
BEGIN:VEVENT
UID:f31758d0-b7cf-4a7c-ad93-9a989d438a16
DTSTAMP:20260419T212833Z
DESCRIPTION:Join us at Shared Journeys for our Birthmother’s Day Gathering 
 - Honoring Our Roots\, Finding Restoration – and surround yourself with a 
 community that shares this journey with you.
DTSTART;TZID=America/Chicago:20260509T120000
DTEND;TZID=America/Chicago:20260509T130000
LOCATION:https://us02web.zoom.us/meeting/register/AEm_7F_ST9mFPay6o6jBzA#/r
 egistration
SUMMARY:Birthmother's Day Event: Honoring Our Roots\, Finding Restoration
END:VEVENT
END:VCALENDAR
