BEGIN:VCALENDAR
VERSION:2.0
PRODID:-//birthparentsupportalliance.org//NONSGML kigkonsult.se iCalcreator
  2.30.10//
CALSCALE:GREGORIAN
METHOD:PUBLISH
UID:a6043418-ab6c-4dae-a986-3217cc42f92d
X-WR-CALDESC:
X-WR-RELCALID:cb2fbc4a34329a240ebe0f1560e556a8
X-WR-TIMEZONE:America/Chicago
BEGIN:VTIMEZONE
TZID:America/Chicago
BEGIN:STANDARD
TZNAME:CST
DTSTART:20301103T020000
TZOFFSETFROM:-0500
TZOFFSETTO:-0600
RDATE:20311102T020000
END:STANDARD
BEGIN:DAYLIGHT
TZNAME:CDT
DTSTART:20310309T020000
TZOFFSETFROM:-0600
TZOFFSETTO:-0500
RDATE:20320314T020000
END:DAYLIGHT
END:VTIMEZONE
BEGIN:VEVENT
UID:a4734211-c926-4d7b-97c6-9a41677fbf92
DTSTAMP:20260420T092405Z
DESCRIPTION:
DTSTART;TZID=America/Chicago:20310319T190000
DTEND;TZID=America/Chicago:20310319T200000
LOCATION:https://us02web.zoom.us/meeting/register/tZYrfuuvrD0uHddF56AbIBpfR
 iR4Zoe3co8s
SUMMARY:BirthmomsConnect Closed/Reunion Call
END:VEVENT
END:VCALENDAR
